BEGIN:VCALENDAR
VERSION:2.0
PRODID:-//BEDEP - ECPv6.15.11//NONSGML v1.0//EN
CALSCALE:GREGORIAN
METHOD:PUBLISH
X-ORIGINAL-URL:https://bedep.com.tr
X-WR-CALDESC:BEDEP için etkinlikler
REFRESH-INTERVAL;VALUE=DURATION:PT1H
X-Robots-Tag:noindex
X-PUBLISHED-TTL:PT1H
BEGIN:VTIMEZONE
TZID:UTC
BEGIN:STANDARD
TZOFFSETFROM:+0000
TZOFFSETTO:+0000
TZNAME:UTC
DTSTART:20240101T000000
END:STANDARD
END:VTIMEZONE
BEGIN:VEVENT
DTSTART;TZID=UTC:20251128T000000
DTEND;TZID=UTC:20251128T235959
DTSTAMP:20260419T145112
CREATED:20251128T090044Z
LAST-MODIFIED:20260130T114657Z
UID:178-1764288000-1764374399@bedep.com.tr
SUMMARY:Değerler Eğitimi Yarışması
DESCRIPTION:
URL:https://bedep.com.tr/event/degerler-egitimi-yarismasi/
CATEGORIES:Etkinlikler
END:VEVENT
BEGIN:VEVENT
DTSTART;TZID=UTC:20251120T000000
DTEND;TZID=UTC:20251120T235959
DTSTAMP:20260419T145112
CREATED:20251120T090054Z
LAST-MODIFIED:20260130T114638Z
UID:176-1763596800-1763683199@bedep.com.tr
SUMMARY:Canlı Anadolu Masalı
DESCRIPTION:
URL:https://bedep.com.tr/event/canli-anadolu-masali/
CATEGORIES:Etkinlikler
END:VEVENT
BEGIN:VEVENT
DTSTART;TZID=UTC:20251115T000000
DTEND;TZID=UTC:20251115T235959
DTSTAMP:20260419T145112
CREATED:20251115T090021Z
LAST-MODIFIED:20260130T114616Z
UID:174-1763164800-1763251199@bedep.com.tr
SUMMARY:Bir Dilim Mutluluk
DESCRIPTION:
URL:https://bedep.com.tr/event/bir-dilim-mutluluk/
CATEGORIES:Etkinlikler
END:VEVENT
BEGIN:VEVENT
DTSTART;TZID=UTC:20251105T000000
DTEND;TZID=UTC:20251105T235959
DTSTAMP:20260419T145112
CREATED:20251105T090055Z
LAST-MODIFIED:20260130T114541Z
UID:172-1762300800-1762387199@bedep.com.tr
SUMMARY:İlluzyon Gösterisi
DESCRIPTION:
URL:https://bedep.com.tr/event/illuzyon-gosterisi/
CATEGORIES:Etkinlikler
END:VEVENT
BEGIN:VEVENT
DTSTART;TZID=UTC:20251031T000000
DTEND;TZID=UTC:20251031T235959
DTSTAMP:20260419T145112
CREATED:20251030T090024Z
LAST-MODIFIED:20260130T114513Z
UID:170-1761868800-1761955199@bedep.com.tr
SUMMARY:Masal Saati
DESCRIPTION:
URL:https://bedep.com.tr/event/masal-saati/
CATEGORIES:Etkinlikler
END:VEVENT
BEGIN:VEVENT
DTSTART;TZID=UTC:20251025T000000
DTEND;TZID=UTC:20251025T235959
DTSTAMP:20260419T145112
CREATED:20251025T090017Z
LAST-MODIFIED:20260130T112908Z
UID:180-1761350400-1761436799@bedep.com.tr
SUMMARY:Kuş Dostlarımız İçin Minik Bir Hediye
DESCRIPTION:
URL:https://bedep.com.tr/event/kus-dostlarimiz-icin-minik-bir-hediye/
CATEGORIES:Etkinlikler
END:VEVENT
BEGIN:VEVENT
DTSTART;TZID=UTC:20251018T000000
DTEND;TZID=UTC:20251018T235959
DTSTAMP:20260419T145112
CREATED:20251018T090056Z
LAST-MODIFIED:20260130T114434Z
UID:168-1760745600-1760831999@bedep.com.tr
SUMMARY:Ritmini Hisset
DESCRIPTION:
URL:https://bedep.com.tr/event/ritmini-hisset/
CATEGORIES:Etkinlikler
END:VEVENT
BEGIN:VEVENT
DTSTART;TZID=UTC:20251011T000000
DTEND;TZID=UTC:20251011T235959
DTSTAMP:20260419T145112
CREATED:20251011T090026Z
LAST-MODIFIED:20260130T114401Z
UID:166-1760140800-1760227199@bedep.com.tr
SUMMARY:Kukla arkadaşımızla eğlenceli sohbet
DESCRIPTION:
URL:https://bedep.com.tr/event/kukla-arkadasimizla-eglenceli-sohbet/
CATEGORIES:Etkinlikler
END:VEVENT
BEGIN:VEVENT
DTSTART;TZID=UTC:20251001T000000
DTEND;TZID=UTC:20251001T235959
DTSTAMP:20260419T145112
CREATED:20251101T073655Z
LAST-MODIFIED:20260130T114317Z
UID:164-1759276800-1759363199@bedep.com.tr
SUMMARY:Lezzet Atölyesinde Buluşuyoruz
DESCRIPTION:
URL:https://bedep.com.tr/event/lezzet-atolyesinde-bulusuyoruz/
CATEGORIES:Etkinlikler
END:VEVENT
BEGIN:VEVENT
DTSTART;TZID=UTC:20250923T000000
DTEND;TZID=UTC:20250923T235959
DTSTAMP:20260419T145112
CREATED:20250923T073544Z
LAST-MODIFIED:20260130T112827Z
UID:152-1758585600-1758671999@bedep.com.tr
SUMMARY:Hayal Et Renklerle Anlat
DESCRIPTION:
URL:https://bedep.com.tr/event/hayal-et-renklerle-anlat/
CATEGORIES:Etkinlikler
END:VEVENT
END:VCALENDAR